View In:
ArcGIS JavaScript
ArcGIS Online Map Viewer
ArcGIS Earth
ArcMap
View Footprint In:
ArcGIS Online Map Viewer
Service Description: Lee_County_Aerial_Image_Extract
Name: Lee_County_Aerial_Image_Extract
Description:
Single Fused Map Cache: false
Extent:
XMin: 2598253
YMin: 1822380.5
XMax: 2609808
YMax: 1881874
Spatial Reference: PROJCS["NAD_1983_StatePlane_Illinois_West_FIPS_1202_Feet",GEOGCS["GCS_North_American_1983",DATUM["D_North_American_1983",SPHEROID["GRS_1980",6378137.0,298.257222101]],PRIMEM["Greenwich",0.0],UNIT["Degree",0.0174532925199433]],PROJECTION["Transverse_Mercator"],PARAMETER["False_Easting",2296583.3333],PARAMETER["False_Northing",0.0],PARAMETER["Central_Meridian",-90.1666666666667],PARAMETER["Scale_Factor",0.999941177],PARAMETER["Latitude_Of_Origin",36.6666666666667],UNIT["Foot_US",0.3048006096012192]]
Initial Extent:
XMin: 2598253
YMin: 1822380.5
XMax: 2609808
YMax: 1881874
Spatial Reference: PROJCS["NAD_1983_StatePlane_Illinois_West_FIPS_1202_Feet",GEOGCS["GCS_North_American_1983",DATUM["D_North_American_1983",SPHEROID["GRS_1980",6378137.0,298.257222101]],PRIMEM["Greenwich",0.0],UNIT["Degree",0.0174532925199433]],PROJECTION["Transverse_Mercator"],PARAMETER["False_Easting",2296583.3333],PARAMETER["False_Northing",0.0],PARAMETER["Central_Meridian",-90.1666666666667],PARAMETER["Scale_Factor",0.999941177],PARAMETER["Latitude_Of_Origin",36.6666666666667],UNIT["Foot_US",0.3048006096012192]]
Full Extent:
XMin: 2598253
YMin: 1822380.5
XMax: 2609808
YMax: 1881874
Spatial Reference: PROJCS["NAD_1983_StatePlane_Illinois_West_FIPS_1202_Feet",GEOGCS["GCS_North_American_1983",DATUM["D_North_American_1983",SPHEROID["GRS_1980",6378137.0,298.257222101]],PRIMEM["Greenwich",0.0],UNIT["Degree",0.0174532925199433]],PROJECTION["Transverse_Mercator"],PARAMETER["False_Easting",2296583.3333],PARAMETER["False_Northing",0.0],PARAMETER["Central_Meridian",-90.1666666666667],PARAMETER["Scale_Factor",0.999941177],PARAMETER["Latitude_Of_Origin",36.6666666666667],UNIT["Foot_US",0.3048006096012192]]
Pixel Size X: 0.5
Pixel Size Y: 0.5
Band Count: 3
Pixel Type: S16
RasterFunction Infos: {"rasterFunctionInfos": [{
"name": "None",
"description": "",
"help": ""
}]}
Mensuration Capabilities: Basic
Has Histograms: true
Has Colormap: false
Has Multi Dimensions : false
Rendering Rule:
Min Scale: 0
Max Scale: 0
Copyright Text:
Service Data Type: esriImageServiceDataTypeGeneric
Min Values: 0, 0, 0
Max Values: 255, 255, 255
Mean Values: 154.74234393919, 140.72213606931, 107.60308750442
Standard Deviation Values: 35.880638759686, 34.591025879792, 30.837298864419
Object ID Field:
Fields:
None
Default Mosaic Method: Center
Allowed Mosaic Methods:
SortField:
SortValue: null
Mosaic Operator: First
Default Compression Quality: 75
Default Resampling Method: Bilinear
Max Record Count: null
Max Image Height: 4100
Max Image Width: 15000
Max Download Image Count: null
Max Mosaic Image Count: null
Allow Raster Function: true
Allow Copy: true
Allow Analysis: true
Allow Compute TiePoints: false
Supports Statistics: false
Supports Advanced Queries: false
Use StandardizedQueries: true
Raster Type Infos:
Name: Raster Dataset
Description: Supports all ArcGIS Raster Datasets
Help:
Has Raster Attribute Table: false
Edit Fields Info: null
Ownership Based AccessControl For Rasters: null
Child Resources:
Info
Histograms
Statistics
Key Properties
Legend
Raster Function Infos
Supported Operations:
Export Image
Identify
Measure
Compute Histograms
Compute Statistics Histograms
Get Samples
Compute Class Statistics
Query Boundary
Compute Pixel Location
Compute Angles
Validate
Project