{
 "currentVersion": 10.91,
 "serviceDescription": "Lee_County_Aerial_Image_Extract",
 "name": "Lee_County_Aerial_Image_Extract",
 "description": "",
 "extent": {
  "xmin": 2598253,
  "ymin": 1822380.5,
  "xmax": 2609808,
  "ymax": 1881874,
  "spatialReference": {
   "wkt": "PROJCS[\"NAD_1983_StatePlane_Illinois_West_FIPS_1202_Feet\",GEOGCS[\"GCS_North_American_1983\",DATUM[\"D_North_American_1983\",SPHEROID[\"GRS_1980\",6378137.0,298.257222101]],PRIMEM[\"Greenwich\",0.0],UNIT[\"Degree\",0.0174532925199433]],PROJECTION[\"Transverse_Mercator\"],PARAMETER[\"False_Easting\",2296583.3333],PARAMETER[\"False_Northing\",0.0],PARAMETER[\"Central_Meridian\",-90.1666666666667],PARAMETER[\"Scale_Factor\",0.999941177],PARAMETER[\"Latitude_Of_Origin\",36.6666666666667],UNIT[\"Foot_US\",0.3048006096012192]]"
  }
 },
 "initialExtent": {
  "xmin": 2598253,
  "ymin": 1822380.5,
  "xmax": 2609808,
  "ymax": 1881874,
  "spatialReference": {
   "wkt": "PROJCS[\"NAD_1983_StatePlane_Illinois_West_FIPS_1202_Feet\",GEOGCS[\"GCS_North_American_1983\",DATUM[\"D_North_American_1983\",SPHEROID[\"GRS_1980\",6378137.0,298.257222101]],PRIMEM[\"Greenwich\",0.0],UNIT[\"Degree\",0.0174532925199433]],PROJECTION[\"Transverse_Mercator\"],PARAMETER[\"False_Easting\",2296583.3333],PARAMETER[\"False_Northing\",0.0],PARAMETER[\"Central_Meridian\",-90.1666666666667],PARAMETER[\"Scale_Factor\",0.999941177],PARAMETER[\"Latitude_Of_Origin\",36.6666666666667],UNIT[\"Foot_US\",0.3048006096012192]]"
  }
 },
 "fullExtent": {
  "xmin": 2598253,
  "ymin": 1822380.5,
  "xmax": 2609808,
  "ymax": 1881874,
  "spatialReference": {
   "wkt": "PROJCS[\"NAD_1983_StatePlane_Illinois_West_FIPS_1202_Feet\",GEOGCS[\"GCS_North_American_1983\",DATUM[\"D_North_American_1983\",SPHEROID[\"GRS_1980\",6378137.0,298.257222101]],PRIMEM[\"Greenwich\",0.0],UNIT[\"Degree\",0.0174532925199433]],PROJECTION[\"Transverse_Mercator\"],PARAMETER[\"False_Easting\",2296583.3333],PARAMETER[\"False_Northing\",0.0],PARAMETER[\"Central_Meridian\",-90.1666666666667],PARAMETER[\"Scale_Factor\",0.999941177],PARAMETER[\"Latitude_Of_Origin\",36.6666666666667],UNIT[\"Foot_US\",0.3048006096012192]]"
  }
 },
 "hasMultidimensions": false,
 "pixelSizeX": 0.5,
 "pixelSizeY": 0.5,
 "datasetFormat": "TIFF",
 "uncompressedSize": 16498737420,
 "blockWidth": 128,
 "blockHeight": 128,
 "compressionType": "None",
 "bandNames": [
  "Band_1",
  "Band_2",
  "Band_3"
 ],
 "allowCopy": true,
 "allowAnalysis": true,
 "bandCount": 3,
 "noDataValue": -32768,
 "noDataValues": [
  -32768,
  -32768,
  -32768
 ],
 "pixelType": "S16",
 "minPixelSize": 0,
 "maxPixelSize": 0,
 "copyrightText": "",
 "serviceDataType": "esriImageServiceDataTypeGeneric",
 "serviceSourceType": "esriImageServiceSourceTypeDataset",
 "minValues": [
  0,
  0,
  0
 ],
 "maxValues": [
  255,
  255,
  255
 ],
 "meanValues": [
  154.74234393919,
  140.72213606931,
  107.60308750442
 ],
 "stdvValues": [
  35.880638759686,
  34.591025879792,
  30.837298864419
 ],
 "objectIdField": "",
 "fields": [],
 "capabilities": "Image,Metadata,Mensuration",
 "defaultMosaicMethod": "Center",
 "allowedMosaicMethods": "",
 "sortField": "",
 "sortValue": null,
 "sortAscending": true,
 "mosaicOperator": "First",
 "defaultCompressionQuality": 75,
 "defaultResamplingMethod": "Bilinear",
 "maxImageHeight": 4100,
 "maxImageWidth": 15000,
 "allowRasterFunction": true,
 "rasterFunctionInfos": [
  {
   "name": "None",
   "description": "",
   "help": ""
  }
 ],
 "rasterTypeInfos": [
  {
   "name": "Raster Dataset",
   "description": "Supports all ArcGIS Raster Datasets",
   "help": ""
  }
 ],
 "mensurationCapabilities": "Basic",
 "hasHistograms": true,
 "hasColormap": false,
 "hasRasterAttributeTable": false,
 "minScale": 0,
 "maxScale": 0,
 "exportTilesAllowed": false,
 "supportsStatistics": false,
 "supportsAdvancedQueries": false,
 "editFieldsInfo": null,
 "ownershipBasedAccessControlForRasters": null,
 "allowComputeTiePoints": false,
 "useStandardizedQueries": true,
 "advancedQueryCapabilities": {
  "useStandardizedQueries": true,
  "supportsStatistics": false,
  "supportsOrderBy": false,
  "supportsDistinct": false,
  "supportsPagination": false
 },
 "spatialReference": {
  "wkt": "PROJCS[\"NAD_1983_StatePlane_Illinois_West_FIPS_1202_Feet\",GEOGCS[\"GCS_North_American_1983\",DATUM[\"D_North_American_1983\",SPHEROID[\"GRS_1980\",6378137.0,298.257222101]],PRIMEM[\"Greenwich\",0.0],UNIT[\"Degree\",0.0174532925199433]],PROJECTION[\"Transverse_Mercator\"],PARAMETER[\"False_Easting\",2296583.3333],PARAMETER[\"False_Northing\",0.0],PARAMETER[\"Central_Meridian\",-90.1666666666667],PARAMETER[\"Scale_Factor\",0.999941177],PARAMETER[\"Latitude_Of_Origin\",36.6666666666667],UNIT[\"Foot_US\",0.3048006096012192]]"
 }
}
